BEGIN:VCALENDAR
VERSION:2.0
PRODID:-//hacksw/handcal//NONSGML v1.0//EN
CALSCALE:GREGORIAN
BEGIN:VEVENT
LOCATION:
SUMMARY:European Urban Resilience Forum (online)
DESCRIPTION:European Urban Resilience Forum (online)
DTSTART:20200527T000000
DTEND:20200527T000000
URL;VALUE=URI:https://energy-cities.eu/event/european-urban-resilience-forum-online/
DTSTAMP:now
UID:659765e0f0d84
END:VEVENT
END:VCALENDAR