BEGIN:VCALENDAR
VERSION:2.0
PRODID:-//hacksw/handcal//NONSGML v1.0//EN
CALSCALE:GREGORIAN
BEGIN:VEVENT
LOCATION:
SUMMARY:European Week of Cities and Regions
DESCRIPTION:European Week of Cities and Regions
DTSTART:20211011T000000
DTEND:20211014T000000
URL;VALUE=URI:https://energy-cities.eu/event/european-week-of-cities-and-regions/
DTSTAMP:now
UID:6597718031b80
END:VEVENT
END:VCALENDAR