BEGIN:VCALENDAR
VERSION:2.0
PRODID:-//hacksw/handcal//NONSGML v1.0//EN
CALSCALE:GREGORIAN
BEGIN:VEVENT
LOCATION:
SUMMARY:Evaluation climat des budgets locaux : méthodologie neutralité carbone
DESCRIPTION:Evaluation climat des budgets locaux : méthodologie neutralité carbone
DTSTART:20210323T140000
DTEND:20210323T153000
URL;VALUE=URI:https://energy-cities.eu/fr/evenement/evaluation-climat-des-budgets-locaux-methodologie-neutralite-carbone/
DTSTAMP:now
UID:659771c5a8a00
END:VEVENT
END:VCALENDAR