BEGIN:VCALENDAR
VERSION:2.0
PRODID:-//hacksw/handcal//NONSGML v1.0//EN
CALSCALE:GREGORIAN
BEGIN:VEVENT
LOCATION:
SUMMARY:Explore the HUB-IN Alliance!
DESCRIPTION:Explore the HUB-IN Alliance!
DTSTART:20230118T110000
DTEND:20230118T120000
URL;VALUE=URI:https://energy-cities.eu/event/explore-the-hub-in-alliance/
DTSTAMP:now
UID:659776f9130fb
END:VEVENT
END:VCALENDAR