BEGIN:VCALENDAR
VERSION:2.0
PRODID:-//hacksw/handcal//NONSGML v1.0//EN
CALSCALE:GREGORIAN
BEGIN:VEVENT
LOCATION:
SUMMARY:FIWARE Smart Cities DAY: Cities as Platforms for the Data Economy
DESCRIPTION:FIWARE Smart Cities DAY: Cities as Platforms for the Data Economy
DTSTART:20201022T160000
DTEND:20201022T063000
URL;VALUE=URI:https://energy-cities.eu/event/fiware-smart-cities-day-cities-as-platforms-for-the-data-economy/
DTSTAMP:now
UID:65977165aa3ca
END:VEVENT
END:VCALENDAR