BEGIN:VCALENDAR
VERSION:2.0
PRODID:-//hacksw/handcal//NONSGML v1.0//EN
CALSCALE:GREGORIAN
BEGIN:VEVENT
LOCATION:
SUMMARY:FIWARE Smart Cities DAY 2: Towards a Sustainable Single Market of Smart City Solutions
DESCRIPTION:FIWARE Smart Cities DAY 2: Towards a Sustainable Single Market of Smart City Solutions
DTSTART:20201105T140000
DTEND:20201105T163000
URL;VALUE=URI:https://energy-cities.eu/event/fiware-smart-cities-day-2-towards-a-sustainable-single-market-of-smart-city-solutions/
DTSTAMP:now
UID:6597683797104
END:VEVENT
END:VCALENDAR