BEGIN:VCALENDAR
VERSION:2.0
PRODID:-//hacksw/handcal//NONSGML v1.0//EN
CALSCALE:GREGORIAN
BEGIN:VEVENT
LOCATION:
SUMMARY:Faciliter la conception de plans d&rsquo\;investissement en matière d&rsquo\;énergie durable
DESCRIPTION:Faciliter la conception de plans d&rsquo\;investissement en matière d&rsquo\;énergie durable
DTSTART:20200519T103000
DTEND:20200519T120000
URL;VALUE=URI:https://energy-cities.eu/fr/evenement/faciliter-la-conception-de-plans-dinvestissement-en-matiere-denergie-durable/
DTSTAMP:now
UID:6597715cd0dd5
END:VEVENT
END:VCALENDAR