BEGIN:VCALENDAR
VERSION:2.0
PRODID:-//hacksw/handcal//NONSGML v1.0//EN
CALSCALE:GREGORIAN
BEGIN:VEVENT
LOCATION:
SUMMARY:Fearless Cities 2021 Online edition
DESCRIPTION:Fearless Cities 2021 Online edition
DTSTART:20210705T000000
DTEND:20210710T000000
URL;VALUE=URI:https://energy-cities.eu/event/fearless-cities-2021-online-edition/
DTSTAMP:now
UID:659768e1d7c09
END:VEVENT
END:VCALENDAR