BEGIN:VCALENDAR
VERSION:2.0
PRODID:-//hacksw/handcal//NONSGML v1.0//EN
CALSCALE:GREGORIAN
BEGIN:VEVENT
LOCATION:
SUMMARY:Financing Community Energy &#8211\; Unlocking the Finance Needed to Speed Up Renewables Development in Europe
DESCRIPTION:Financing Community Energy &#8211\; Unlocking the Finance Needed to Speed Up Renewables Development in Europe
DTSTART:20210415T120000
DTEND:20210415T133000
URL;VALUE=URI:https://energy-cities.eu/event/financing-community-energy-unlocking-the-finance-needed-to-speed-up-renewables-development-in-europe/
DTSTAMP:now
UID:65976c04b2fc7
END:VEVENT
END:VCALENDAR