BEGIN:VCALENDAR
VERSION:2.0
PRODID:-//hacksw/handcal//NONSGML v1.0//EN
CALSCALE:GREGORIAN
BEGIN:VEVENT
LOCATION:
SUMMARY:Financing local climate actions &#8211\; The European City Facility (EUCF)
DESCRIPTION:Financing local climate actions &#8211\; The European City Facility (EUCF)
DTSTART:20211012T110000
DTEND:20211012T120000
URL;VALUE=URI:https://energy-cities.eu/event/financing-local-climate-actions-the-european-city-facility-eucf/
DTSTAMP:now
UID:65976eb59e3a2
END:VEVENT
END:VCALENDAR