BEGIN:VCALENDAR
VERSION:2.0
PRODID:-//hacksw/handcal//NONSGML v1.0//EN
CALSCALE:GREGORIAN
BEGIN:VEVENT
LOCATION:
SUMMARY:Financing mechanisms for the energy sector: Ensuring a fair transition for all Member States
DESCRIPTION:Financing mechanisms for the energy sector: Ensuring a fair transition for all Member States
DTSTART:20200923T090000
DTEND:20200923T110000
URL;VALUE=URI:https://energy-cities.eu/event/financing-mechanisms-for-the-energy-sector-ensuring-a-fair-transition-for-all-member-states/
DTSTAMP:now
UID:6597774f441e4
END:VEVENT
END:VCALENDAR