BEGIN:VCALENDAR
VERSION:2.0
PRODID:-//hacksw/handcal//NONSGML v1.0//EN
CALSCALE:GREGORIAN
BEGIN:VEVENT
LOCATION:
SUMMARY:Focus sur les fonds d&rsquo\;investissement territorial
DESCRIPTION:Focus sur les fonds d&rsquo\;investissement territorial
DTSTART:20211202T160000
DTEND:20211202T173000
URL;VALUE=URI:https://energy-cities.eu/fr/evenement/focus-sur-les-fonds-dinvestissement-territorial/
DTSTAMP:now
UID:65976e83d9792
END:VEVENT
END:VCALENDAR