BEGIN:VCALENDAR
VERSION:2.0
PRODID:-//hacksw/handcal//NONSGML v1.0//EN
CALSCALE:GREGORIAN
BEGIN:VEVENT
LOCATION:
SUMMARY:Formation : La prospective pour les territoires
DESCRIPTION:Formation : La prospective pour les territoires
DTSTART:20210311T000000
DTEND:20210312T000000
URL;VALUE=URI:https://energy-cities.eu/fr/evenement/formation-la-prospective-pour-les-territoires/
DTSTAMP:now
UID:6597694fe39ed
END:VEVENT
END:VCALENDAR