BEGIN:VCALENDAR
VERSION:2.0
PRODID:-//hacksw/handcal//NONSGML v1.0//EN
CALSCALE:GREGORIAN
BEGIN:VEVENT
LOCATION:
SUMMARY:Formation Focus Lab Territoire(s)
DESCRIPTION:Formation Focus Lab Territoire(s)
DTSTART:20230411T000000
DTEND:20230516T000000
URL;VALUE=URI:https://energy-cities.eu/fr/evenement/formation-focus-lab-territoires/
DTSTAMP:now
UID:65976d535fcd9
END:VEVENT
END:VCALENDAR