BEGIN:VCALENDAR
VERSION:2.0
PRODID:-//hacksw/handcal//NONSGML v1.0//EN
CALSCALE:GREGORIAN
BEGIN:VEVENT
LOCATION:
SUMMARY:Forum Energy Cities 2022 : Maintenons nos liens !
DESCRIPTION:Forum Energy Cities 2022 : Maintenons nos liens !
DTSTART:20220421T090000
DTEND:20220422T140000
URL;VALUE=URI:https://energy-cities.eu/fr/evenement/forum-energy-cities-2022-maintenons-nos-liens/
DTSTAMP:now
UID:65976c9b21f59
END:VEVENT
END:VCALENDAR