BEGIN:VCALENDAR
VERSION:2.0
PRODID:-//hacksw/handcal//NONSGML v1.0//EN
CALSCALE:GREGORIAN
BEGIN:VEVENT
LOCATION:
SUMMARY:Forum Zéro Carbone
DESCRIPTION:Forum Zéro Carbone
DTSTART:20201210T080030
DTEND:20201211T173000
URL;VALUE=URI:https://energy-cities.eu/fr/evenement/forum-zero-carbone/
DTSTAMP:now
UID:65976b783e427
END:VEVENT
END:VCALENDAR