BEGIN:VCALENDAR
VERSION:2.0
PRODID:-//hacksw/handcal//NONSGML v1.0//EN
CALSCALE:GREGORIAN
BEGIN:VEVENT
LOCATION:
SUMMARY:From positive energy districts to climate neutral cities
DESCRIPTION:From positive energy districts to climate neutral cities
DTSTART:20210701T000000
DTEND:20210702T000000
URL;VALUE=URI:https://energy-cities.eu/event/from-positive-energy-districts-to-climate-neutral-cities/
DTSTAMP:now
UID:659771888865b
END:VEVENT
END:VCALENDAR