BEGIN:VCALENDAR
VERSION:2.0
PRODID:-//hacksw/handcal//NONSGML v1.0//EN
CALSCALE:GREGORIAN
BEGIN:VEVENT
LOCATION:
SUMMARY:Future of Cities Summit
DESCRIPTION:Future of Cities Summit
DTSTART:20211125T130000
DTEND:20211125T180000
URL;VALUE=URI:https://energy-cities.eu/event/future-of-cities-summit/
DTSTAMP:now
UID:659763fa52e27
END:VEVENT
END:VCALENDAR