BEGIN:VCALENDAR
VERSION:2.0
PRODID:-//hacksw/handcal//NONSGML v1.0//EN
CALSCALE:GREGORIAN
BEGIN:VEVENT
LOCATION:
SUMMARY:Global Climate Strike
DESCRIPTION:Global Climate Strike
DTSTART:20190920T000000
DTEND:20190927T000000
URL;VALUE=URI:https://energy-cities.eu/event/global-climate-strike/
DTSTAMP:now
UID:6597642f42c17
END:VEVENT
END:VCALENDAR