BEGIN:VCALENDAR
VERSION:2.0
PRODID:-//hacksw/handcal//NONSGML v1.0//EN
CALSCALE:GREGORIAN
BEGIN:VEVENT
LOCATION:
SUMMARY:Global Climate Strike
DESCRIPTION:Global Climate Strike
DTSTART:20190920T090000
DTEND:20190920T180000
URL;VALUE=URI:https://energy-cities.eu/fr/evenement/global-climate-strike/
DTSTAMP:now
UID:65976af3b249c
END:VEVENT
END:VCALENDAR