BEGIN:VCALENDAR
VERSION:2.0
PRODID:-//hacksw/handcal//NONSGML v1.0//EN
CALSCALE:GREGORIAN
BEGIN:VEVENT
LOCATION:
SUMMARY:Green Cities Forum
DESCRIPTION:Green Cities Forum
DTSTART:20210906T000000
DTEND:20210912T000000
URL;VALUE=URI:https://energy-cities.eu/event/green-cities-forum/
DTSTAMP:now
UID:65976b1529757
END:VEVENT
END:VCALENDAR