BEGIN:VCALENDAR
VERSION:2.0
PRODID:-//hacksw/handcal//NONSGML v1.0//EN
CALSCALE:GREGORIAN
BEGIN:VEVENT
LOCATION:
SUMMARY:Green Growth Community Communication Training
DESCRIPTION:Green Growth Community Communication Training
DTSTART:20210119T103000
DTEND:20210119T120000
URL;VALUE=URI:https://energy-cities.eu/event/green-growth-community-communication-training/
DTSTAMP:now
UID:659766e830715
END:VEVENT
END:VCALENDAR