BEGIN:VCALENDAR
VERSION:2.0
PRODID:-//hacksw/handcal//NONSGML v1.0//EN
CALSCALE:GREGORIAN
BEGIN:VEVENT
LOCATION:
SUMMARY:Greening our cities with district energy!
DESCRIPTION:Greening our cities with district energy!
DTSTART:20200915T090000
DTEND:20200915T121500
URL;VALUE=URI:https://energy-cities.eu/event/greening-our-cities-with-district-energy/
DTSTAMP:now
UID:65976952477c7
END:VEVENT
END:VCALENDAR