BEGIN:VCALENDAR
VERSION:2.0
PRODID:-//hacksw/handcal//NONSGML v1.0//EN
CALSCALE:GREGORIAN
BEGIN:VEVENT
LOCATION:
SUMMARY:Handbook of Territorial and Local Development Strategies launch
DESCRIPTION:Handbook of Territorial and Local Development Strategies launch
DTSTART:20221118T103000
DTEND:20221118T123000
URL;VALUE=URI:https://energy-cities.eu/event/handbook-of-territorial-and-local-development-strategies-launch/
DTSTAMP:now
UID:6597721a7a60a
END:VEVENT
END:VCALENDAR