BEGIN:VCALENDAR
VERSION:2.0
PRODID:-//hacksw/handcal//NONSGML v1.0//EN
CALSCALE:GREGORIAN
BEGIN:VEVENT
LOCATION:
SUMMARY:Heat as a service: new actors &#038\; alternatives on the heat market
DESCRIPTION:Heat as a service: new actors &#038\; alternatives on the heat market
DTSTART:20220128T100000
DTEND:20220128T120000
URL;VALUE=URI:https://energy-cities.eu/event/heat-as-a-service-new-actors-alternatives-on-the-heat-market/
DTSTAMP:now
UID:65976f562420d
END:VEVENT
END:VCALENDAR