BEGIN:VCALENDAR
VERSION:2.0
PRODID:-//hacksw/handcal//NONSGML v1.0//EN
CALSCALE:GREGORIAN
BEGIN:VEVENT
LOCATION:
SUMMARY:Heating &#038\; cooling planning made easier &#8211\; HOTMAPS online training
DESCRIPTION:Heating &#038\; cooling planning made easier &#8211\; HOTMAPS online training
DTSTART:20200427T000000
DTEND:20200512T000000
URL;VALUE=URI:https://energy-cities.eu/event/heating-cooling-planning-made-easier-hotmaps-online-training/
DTSTAMP:now
UID:65976f56973eb
END:VEVENT
END:VCALENDAR