BEGIN:VCALENDAR
VERSION:2.0
PRODID:-//hacksw/handcal//NONSGML v1.0//EN
CALSCALE:GREGORIAN
BEGIN:VEVENT
LOCATION:
SUMMARY:Heating &#038\; cooling planning made easier &#8211\; HOTMAPS training
DESCRIPTION:Heating &#038\; cooling planning made easier &#8211\; HOTMAPS training
DTSTART:20191209T120000
DTEND:20191210T170000
URL;VALUE=URI:https://energy-cities.eu/event/heating-cooling-planning-made-easier-hotmaps-training/
DTSTAMP:now
UID:65976dd945027
END:VEVENT
END:VCALENDAR