BEGIN:VCALENDAR
VERSION:2.0
PRODID:-//hacksw/handcal//NONSGML v1.0//EN
CALSCALE:GREGORIAN
BEGIN:VEVENT
LOCATION:
SUMMARY:Heating and cooling planning for greener cities: local resources first!
DESCRIPTION:Heating and cooling planning for greener cities: local resources first!
DTSTART:20200630T090000
DTEND:20200630T123000
URL;VALUE=URI:https://energy-cities.eu/event/heating-and-cooling-planning-for-greener-cities-local-resources-first/
DTSTAMP:now
UID:65977660efe39
END:VEVENT
END:VCALENDAR