BEGIN:VCALENDAR
VERSION:2.0
PRODID:-//hacksw/handcal//NONSGML v1.0//EN
CALSCALE:GREGORIAN
BEGIN:VEVENT
LOCATION:
SUMMARY:Heating and cooling planning made easier
DESCRIPTION:Heating and cooling planning made easier
DTSTART:20191114T143000
DTEND:20191114T153000
URL;VALUE=URI:https://energy-cities.eu/event/heating-and-cooling-planning-made-easier/
DTSTAMP:now
UID:65976ec3bd67d
END:VEVENT
END:VCALENDAR