BEGIN:VCALENDAR
VERSION:2.0
PRODID:-//hacksw/handcal//NONSGML v1.0//EN
CALSCALE:GREGORIAN
BEGIN:VEVENT
LOCATION:
SUMMARY:Helsinki Energy Challenge: What alternatives to decarbonise heating systems?
DESCRIPTION:Helsinki Energy Challenge: What alternatives to decarbonise heating systems?
DTSTART:20210610T100000
DTEND:20210610T111500
URL;VALUE=URI:https://energy-cities.eu/event/helsinki-energy-challenge-what-alternatives-to-decarbonise-heating-systems/
DTSTAMP:now
UID:65976c51c03e3
END:VEVENT
END:VCALENDAR