BEGIN:VCALENDAR
VERSION:2.0
PRODID:-//hacksw/handcal//NONSGML v1.0//EN
CALSCALE:GREGORIAN
BEGIN:VEVENT
LOCATION:
SUMMARY:Helsinki Energy Challenge &#8211\; Live broadcast
DESCRIPTION:Helsinki Energy Challenge &#8211\; Live broadcast
DTSTART:20200616T170000
DTEND:20200614T190000
URL;VALUE=URI:https://energy-cities.eu/event/helsinki-energy-challenge-live-broadcast/
DTSTAMP:now
UID:65976c228c742
END:VEVENT
END:VCALENDAR