BEGIN:VCALENDAR
VERSION:2.0
PRODID:-//hacksw/handcal//NONSGML v1.0//EN
CALSCALE:GREGORIAN
BEGIN:VEVENT
LOCATION:
SUMMARY:Horizon Europe info days: The green and digital transitions to achieve climate neutrality in Europe by 2050
DESCRIPTION:Horizon Europe info days: The green and digital transitions to achieve climate neutrality in Europe by 2050
DTSTART:20221215T090000
DTEND:20221216T170000
URL;VALUE=URI:https://energy-cities.eu/event/horizon-europe-info-days-the-green-and-digital-transitions-to-achieve-climate-neutrality-in-europe-by-2050/
DTSTAMP:now
UID:65976bc56a875
END:VEVENT
END:VCALENDAR