BEGIN:VCALENDAR
VERSION:2.0
PRODID:-//hacksw/handcal//NONSGML v1.0//EN
CALSCALE:GREGORIAN
BEGIN:VEVENT
LOCATION:
SUMMARY:How are European Cities transitioning to fossil fuel free buildings &#8211\; Webinar
DESCRIPTION:How are European Cities transitioning to fossil fuel free buildings &#8211\; Webinar
DTSTART:20231107T100000
DTEND:20231107T000000
URL;VALUE=URI:https://energy-cities.eu/event/how-are-european-cities-transitioning-to-fossil-fuel-free-buildings/
DTSTAMP:now
UID:659767b9e5f76
END:VEVENT
END:VCALENDAR