BEGIN:VCALENDAR
VERSION:2.0
PRODID:-//hacksw/handcal//NONSGML v1.0//EN
CALSCALE:GREGORIAN
BEGIN:VEVENT
LOCATION:
SUMMARY:How can cities achieve true climate impact?
DESCRIPTION:How can cities achieve true climate impact?
DTSTART:20200603T100000
DTEND:20200603T113000
URL;VALUE=URI:https://energy-cities.eu/event/how-can-cities-achieve-true-climate-impact/
DTSTAMP:now
UID:65976c0d19773
END:VEVENT
END:VCALENDAR