BEGIN:VCALENDAR
VERSION:2.0
PRODID:-//hacksw/handcal//NONSGML v1.0//EN
CALSCALE:GREGORIAN
BEGIN:VEVENT
LOCATION:
SUMMARY:How can cities decarbonise urban logistics through Public-Private Partnerships?
DESCRIPTION:How can cities decarbonise urban logistics through Public-Private Partnerships?
DTSTART:20220915T140000
DTEND:20220915T153000
URL;VALUE=URI:https://energy-cities.eu/event/how-can-cities-decarbonise-urban-logistics-through-public-private-partnerships/
DTSTAMP:now
UID:659767def3db3
END:VEVENT
END:VCALENDAR