BEGIN:VCALENDAR
VERSION:2.0
PRODID:-//hacksw/handcal//NONSGML v1.0//EN
CALSCALE:GREGORIAN
BEGIN:VEVENT
LOCATION:
SUMMARY:How can cities finance their energy transition when subsidies are limited?
DESCRIPTION:How can cities finance their energy transition when subsidies are limited?
DTSTART:20230302T100000
DTEND:20230302T114500
URL;VALUE=URI:https://energy-cities.eu/event/how-can-cities-finance-their-energy-transition-when-subsidies-are-limited/
DTSTAMP:now
UID:65976bcf73b72
END:VEVENT
END:VCALENDAR