BEGIN:VCALENDAR
VERSION:2.0
PRODID:-//hacksw/handcal//NONSGML v1.0//EN
CALSCALE:GREGORIAN
BEGIN:VEVENT
LOCATION:
SUMMARY:How can cities future-proof food systems?
DESCRIPTION:How can cities future-proof food systems?
DTSTART:20220622T103000
DTEND:20220622T113000
URL;VALUE=URI:https://energy-cities.eu/event/how-can-cities-future-proof-food-systems/
DTSTAMP:now
UID:65976a7d29802
END:VEVENT
END:VCALENDAR