BEGIN:VCALENDAR
VERSION:2.0
PRODID:-//hacksw/handcal//NONSGML v1.0//EN
CALSCALE:GREGORIAN
BEGIN:VEVENT
LOCATION:
SUMMARY:How can decision-makers create a favorable legal context for their islands?
DESCRIPTION:How can decision-makers create a favorable legal context for their islands?
DTSTART:20200227T110000
DTEND:20200227T000000
URL;VALUE=URI:https://energy-cities.eu/event/how-can-decision-makers-create-a-favorable-legal-context-for-their-islands/
DTSTAMP:now
UID:659777dae15dc
END:VEVENT
END:VCALENDAR