BEGIN:VCALENDAR
VERSION:2.0
PRODID:-//hacksw/handcal//NONSGML v1.0//EN
CALSCALE:GREGORIAN
BEGIN:VEVENT
LOCATION:
SUMMARY:How can local and regional authorities meet the climate and energy goals with reduced dependence on subsidies?
DESCRIPTION:How can local and regional authorities meet the climate and energy goals with reduced dependence on subsidies?
DTSTART:20220111T100000
DTEND:20220111T120000
URL;VALUE=URI:https://energy-cities.eu/event/how-can-local-and-regional-authorities-meet-the-climate-and-energy-goals-with-reduced-dependence-on-subsidies/
DTSTAMP:now
UID:65976635cf04e
END:VEVENT
END:VCALENDAR