BEGIN:VCALENDAR
VERSION:2.0
PRODID:-//hacksw/handcal//NONSGML v1.0//EN
CALSCALE:GREGORIAN
BEGIN:VEVENT
LOCATION:
SUMMARY:How can low-tech and biomimicry concepts help decarbonise buildings?
DESCRIPTION:How can low-tech and biomimicry concepts help decarbonise buildings?
DTSTART:20221215T110000
DTEND:20221215T120000
URL;VALUE=URI:https://energy-cities.eu/event/changing-paradigm-beyond-short-term-measures-for-this-winter-what-low-tech-and-biomimicry-concepts-can-bring-to-the-buildings-decarbonisation/
DTSTAMP:now
UID:659764962b936
END:VEVENT
END:VCALENDAR