BEGIN:VCALENDAR
VERSION:2.0
PRODID:-//hacksw/handcal//NONSGML v1.0//EN
CALSCALE:GREGORIAN
BEGIN:VEVENT
LOCATION:
SUMMARY:How do we make sufficiency desirable?
DESCRIPTION:How do we make sufficiency desirable?
DTSTART:20221004T110000
DTEND:20221004T120000
URL;VALUE=URI:https://energy-cities.eu/event/how-do-we-make-sufficiency-desirable/
DTSTAMP:now
UID:65976d6eb7784
END:VEVENT
END:VCALENDAR