BEGIN:VCALENDAR
VERSION:2.0
PRODID:-//hacksw/handcal//NONSGML v1.0//EN
CALSCALE:GREGORIAN
BEGIN:VEVENT
LOCATION:
SUMMARY:How local and regional authorities can accelerate the implementation of their climate and energy action plans when subsidies are limited
DESCRIPTION:How local and regional authorities can accelerate the implementation of their climate and energy action plans when subsidies are limited
DTSTART:20220908T100000
DTEND:20220908T120000
URL;VALUE=URI:https://energy-cities.eu/event/how-local-and-regional-authorities-can-accelerate-the-implementation-of-their-climate-and-energy-action-plans-when-subsidies-are-limited/
DTSTAMP:now
UID:65976ce923ea0
END:VEVENT
END:VCALENDAR