BEGIN:VCALENDAR
VERSION:2.0
PRODID:-//hacksw/handcal//NONSGML v1.0//EN
CALSCALE:GREGORIAN
BEGIN:VEVENT
LOCATION:
SUMMARY:How to apply to the EUCF? Energy Cities&#8217\; members only.
DESCRIPTION:How to apply to the EUCF? Energy Cities&#8217\; members only.
DTSTART:20210505T040000
DTEND:20210505T050000
URL;VALUE=URI:https://energy-cities.eu/event/how-to-apply-to-the-eucf-energy-cities-members-only/
DTSTAMP:now
UID:65977606e94fb
END:VEVENT
END:VCALENDAR