BEGIN:VCALENDAR
VERSION:2.0
PRODID:-//hacksw/handcal//NONSGML v1.0//EN
CALSCALE:GREGORIAN
BEGIN:VEVENT
LOCATION:
SUMMARY:How to apply to the EUCF? Webinar in German
DESCRIPTION:How to apply to the EUCF? Webinar in German
DTSTART:20200831T140000
DTEND:20200831T153000
URL;VALUE=URI:https://energy-cities.eu/event/how-to-apply-to-the-eucf-webinar-in-german/
DTSTAMP:now
UID:65976a5eb26bd
END:VEVENT
END:VCALENDAR