BEGIN:VCALENDAR
VERSION:2.0
PRODID:-//hacksw/handcal//NONSGML v1.0//EN
CALSCALE:GREGORIAN
BEGIN:VEVENT
LOCATION:
SUMMARY:How to build a business case for your energy community?
DESCRIPTION:How to build a business case for your energy community?
DTSTART:20231024T100000
DTEND:20231024T113000
URL;VALUE=URI:https://energy-cities.eu/event/how-to-build-a-business-case-for-your-energy-community/
DTSTAMP:now
UID:659768ddab485
END:VEVENT
END:VCALENDAR