BEGIN:VCALENDAR
VERSION:2.0
PRODID:-//hacksw/handcal//NONSGML v1.0//EN
CALSCALE:GREGORIAN
BEGIN:VEVENT
LOCATION:
SUMMARY:How to finance local climate and energy actions\, what is missing? A dialogue between cities and investors on how to bridge the finance gap
DESCRIPTION:How to finance local climate and energy actions\, what is missing? A dialogue between cities and investors on how to bridge the finance gap
DTSTART:20210128T100000
DTEND:20210128T111500
URL;VALUE=URI:https://energy-cities.eu/event/how-to-finance-local-climate-and-energy-actions-what-is-missing-a-dialogue-between-cities-and-investors-on-how-to-bridge-the-finance-gap/
DTSTAMP:now
UID:65977141b7901
END:VEVENT
END:VCALENDAR