BEGIN:VCALENDAR
VERSION:2.0
PRODID:-//hacksw/handcal//NONSGML v1.0//EN
CALSCALE:GREGORIAN
BEGIN:VEVENT
LOCATION:
SUMMARY:How to foster 4th generation district heating and cooling?
DESCRIPTION:How to foster 4th generation district heating and cooling?
DTSTART:20191209T110000
DTEND:20191209T000000
URL;VALUE=URI:https://energy-cities.eu/event/how-to-foster-4th-generation-district-heating-and-cooling/
DTSTAMP:now
UID:659763bf0a994
END:VEVENT
END:VCALENDAR