BEGIN:VCALENDAR
VERSION:2.0
PRODID:-//hacksw/handcal//NONSGML v1.0//EN
CALSCALE:GREGORIAN
BEGIN:VEVENT
LOCATION:
SUMMARY:How to give cities the staffing means for their climate ambitions?
DESCRIPTION:How to give cities the staffing means for their climate ambitions?
DTSTART:20220704T100000
DTEND:20220704T113000
URL;VALUE=URI:https://energy-cities.eu/event/webinar-how-to-give-cities-the-staffing-means-for-their-climate-ambitions/
DTSTAMP:now
UID:6597688e3bbd6
END:VEVENT
END:VCALENDAR