BEGIN:VCALENDAR
VERSION:2.0
PRODID:-//hacksw/handcal//NONSGML v1.0//EN
CALSCALE:GREGORIAN
BEGIN:VEVENT
LOCATION:
SUMMARY:How to hack local community activation in cities in times of a lockdown?
DESCRIPTION:How to hack local community activation in cities in times of a lockdown?
DTSTART:20200518T110000
DTEND:20200518T120000
URL;VALUE=URI:https://energy-cities.eu/event/how-to-hack-local-community-activation-in-cities-in-times-of-a-lockdown/
DTSTAMP:now
UID:659770f40b4eb
END:VEVENT
END:VCALENDAR