BEGIN:VCALENDAR
VERSION:2.0
PRODID:-//hacksw/handcal//NONSGML v1.0//EN
CALSCALE:GREGORIAN
BEGIN:VEVENT
LOCATION:
SUMMARY:How to implement integrated home renovation services &#8211\; Examples from Europe
DESCRIPTION:How to implement integrated home renovation services &#8211\; Examples from Europe
DTSTART:20220315T100000
DTEND:20220315T120000
URL;VALUE=URI:https://energy-cities.eu/event/how-to-implement-integrated-home-renovation-services-examples-from-europe/
DTSTAMP:now
UID:65976dc726eb0
END:VEVENT
END:VCALENDAR